BEGIN:VCALENDAR
VERSION:2.0
PRODID:-//ChamberMaster//Event Calendar 2.0//EN
METHOD:PUBLISH
X-PUBLISHED-TTL:P1H
REFRESH-INTERVAL:P1H
CALSCALE:GREGORIAN
BEGIN:VTIMEZONE
TZID:America/Chicago
BEGIN:DAYLIGHT
RRULE:FREQ=YEARLY;BYMONTH=3;BYDAY=2SU
DTSTART:20070101T000000
TZOFFSETFROM:-0600
TZOFFSETTO:-0500
TZNAME:Central Daylight Time
END:DAYLIGHT
BEGIN:STANDARD
RRULE:FREQ=YEARLY;BYMONTH=11;BYDAY=1SU
DTSTART:20070101T000000
TZOFFSETFROM:-0500
TZOFFSETTO:-0600
TZNAME:Central Standard Time
END:STANDARD
END:VTIMEZONE
BEGIN:VEVENT
DTSTART;TZID=America/Chicago:20261030T090000
DTEND;TZID=America/Chicago:20261030T160000
X-MICROSOFT-CDO-ALLDAYEVENT:FALSE
SUMMARY:LIVE INSTRUCTOR: CANDY COOKE\; 3 OR 6HRS OF APPRAISAL/CMA!
DESCRIPTION:Candy Cooke is coming back to Beaumont for more appraisal/CMA CE!!She will be at the board office all day on Friday\, October 30th teaching 2 different courses (3hours from 9AM - 12PM and again from 1P - 4P).BREAKFAST @ 830AM PROVIDED BY:\n\nLUNCH @12PM PROVIDED BY: \n9AM - 12PM: \n1PM - 4PM: To attend one or both of the courses\, register for each specific class (morning OR afternoon)Breakfast and Lunch will be provided\n20 MAX ATTENDEES FOR BOTH SESSIONS
X-ALT-DESC;FMTTYPE=text/html:<!DOCTYPE html><html><head><title></title></head><body aria-disabled="false"><p><strong fr-original-style="" style="font-weight: 700\;"><span style="font-family: Verdana\, Geneva\, sans-serif\; color: rgb(85\, 57\, 130)\;">Candy Cooke is coming back to Beaumont for more appraisal/CMA CE!!</span></strong></p><p>She will be at the board office all day on <strong fr-original-style="" style="font-weight: 700\;"><span style="font-family: Verdana\,Geneva\,sans-serif\;">Friday\, October 30th</span></strong> teaching 2 different courses (3hours from 9AM - 12PM and again from 1P - 4P).</p><p><strong fr-original-style="" style="font-weight: 700\;"><span style="font-family: Verdana\,Geneva\,sans-serif\;">BREAKFAST @ 830AM PROVIDED BY:</span></strong><br><strong fr-original-style="" style="font-weight: 700\;"><span style="font-family: Verdana\,Geneva\,sans-serif\;"><br>LUNCH @12PM PROVIDED BY:</span>&nbsp\;</strong></p><p><br></p><p><strong fr-original-style="" style="font-weight: 700\;"><span style="font-family: Verdana\, Geneva\, sans-serif\; background-color: rgb(247\, 218\, 100)\; color: rgb(184\, 49\, 47)\;">9AM - 12PM:&nbsp\;</span></strong><br><strong fr-original-style="" style="font-weight: 700\;"><span style="font-family: Verdana\, Geneva\, sans-serif\; background-color: rgb(247\, 218\, 100)\; color: rgb(184\, 49\, 47)\;">1PM - 4PM:&nbsp\;</span></strong></p><p>To attend one or both of the courses\, register for each specific class (morning OR afternoon)</p><p>Breakfast and Lunch will be provided<br><strong fr-original-style="" style="font-weight: 700\;"><span style="font-family: Verdana\, Geneva\, sans-serif\; color: rgb(184\, 49\, 47)\;">20 MAX ATTENDEES FOR BOTH SESSIONS</span></strong></p></body></html>
LOCATION:1395 N. 11th Street IN-PERSON @ BBOR Beaumont TX 77702
UID:e.3880.1447885
SEQUENCE:3
DTSTAMP:20260423T111046Z
URL:https://members.bbor.online/event-calendar/Details/live-instructor-candy-cooke-3-or-6hrs-of-appraisal-cma-1714824?sourceTypeId=Hub
END:VEVENT
END:VCALENDAR
