BEGIN:VCALENDAR
VERSION:2.0
PRODID:-//ChamberMaster//Event Calendar 2.0//EN
METHOD:PUBLISH
X-PUBLISHED-TTL:P1H
REFRESH-INTERVAL:P1H
CALSCALE:GREGORIAN
BEGIN:VTIMEZONE
TZID:America/Chicago
BEGIN:DAYLIGHT
RRULE:FREQ=YEARLY;BYMONTH=3;BYDAY=2SU
DTSTART:20070101T000000
TZOFFSETFROM:-0600
TZOFFSETTO:-0500
TZNAME:Central Daylight Time
END:DAYLIGHT
BEGIN:STANDARD
RRULE:FREQ=YEARLY;BYMONTH=11;BYDAY=1SU
DTSTART:20070101T000000
TZOFFSETFROM:-0500
TZOFFSETTO:-0600
TZNAME:Central Standard Time
END:STANDARD
END:VTIMEZONE
BEGIN:VEVENT
DTSTART;VALUE=DATE:20260915
DTEND;VALUE=DATE:20260917
TRANSP:TRANSPARENT
X-MICROSOFT-CDO-ALLDAYEVENT:TRUE
SUMMARY:ZOOM: REAL ESTATE NEGOTIATION EXPERT
DESCRIPTION:TUESDAY\, SEPT 15   16 Elective CE hours\; $225\; Instructor: Candy Cooke
X-ALT-DESC;FMTTYPE=text/html:TUESDAY\, SEPT 15 & WEDNESDAY SEPT 16: REAL ESTATE NEGOTIATION EXPERT\n8:30- 5PM\; 16 Elective CE hours\; $225\; Instructor: Candy Cooke
LOCATION:ZOOM ONLY ZOOM ONLY TX
UID:e.3880.1447458
SEQUENCE:3
DTSTAMP:20260423T105708Z
URL:https://members.bbor.online/event-calendar/Details/zoom-real-estate-negotiation-expert-1714400?sourceTypeId=Hub
END:VEVENT
END:VCALENDAR
